BEGIN:VCALENDAR
VERSION:2.0
PRODID:-//Toni  Ferragut - ECPv6.15.20//NONSGML v1.0//EN
CALSCALE:GREGORIAN
METHOD:PUBLISH
X-ORIGINAL-URL:https://www.antoniferragut.cat
X-WR-CALDESC:Esdeveniments per Toni  Ferragut
REFRESH-INTERVAL;VALUE=DURATION:PT1H
X-Robots-Tag:noindex
X-PUBLISHED-TTL:PT1H
BEGIN:VTIMEZONE
TZID:UTC
BEGIN:STANDARD
TZOFFSETFROM:+0000
TZOFFSETTO:+0000
TZNAME:UTC
DTSTART:20250101T000000
END:STANDARD
END:VTIMEZONE
BEGIN:VEVENT
DTSTART;TZID=UTC:20260327T170000
DTEND;TZID=UTC:20260327T203000
DTSTAMP:20260423T095751
CREATED:20260219T100340Z
LAST-MODIFIED:20260219T100340Z
UID:4651-1774630800-1774643400@www.antoniferragut.cat
SUMMARY:Taller de constel·lacions familiars (espaimare)
DESCRIPTION:Taller de constel·lacions familiars (Maria de la Salut\, Mallorca)\nLloc: espai mare\, c. Eivissa\, 8 1r\, Maria de la Salut. \nAportació: 80€. Cal una reserva de 30€. Representants: 20€. \nInscripció per a constel·lar: aquí. Reserva per a representar al 666074945 (whatsapp). \nPer a més informació sobre les constel·lacions familiars podeu contactar amb mi al 666 07 49 45. \n\nUna constel·lació familiar és un mètode terapèutic\, desenvolupat per Bert Hellinger\, que treballa directament amb l’inconscient\, la part més profunda del nostre ésser. \nAl voltant del 70% dels problemes psicològics que ens afecten a tots provenen de la nostra història i la nostra relació familiar. Les constel·lacions familiars treuen a la llum ràpidament la dinàmica que causa el patiment i\, si es donen les circumstàncies apropiades\, les recol·loca en el mateix moment. \nGran part dels bloquejos i patrons dolorosos no són sempre responsabilitat directa de les nostres decisions\, ja que en el nostre ésser existeix un nivell més profund\, l’inconscient\, on hi descansen instruccions incondicionals\, heretades dels nostres pares\, avis\, besavis i demés ancestres. Aquests patrons es fan visibles per exemple en l’elecció de la parella\, en la realització dels projectes de vida o en les malalties. Les constel·lacions familiars serveixen per a alliberar-nos d’aquelles creences\, pensaments\, històries\, emocions\, que no ens permeten viure plenament\, que no ens agraden de nosaltres\, que repetim freqüentment (patrons) i que no sabem canviar amb resultats satisfactoris. Una vegada ens hem alliberat de tot això\, podem caminar cap al benestar. \nEl mètode de les constel·lacions familiars destaca per la seva rapidesa. En una constel·lació\, d’una durada mitjana aproximada d’una hora\, surt a la llum i s’aborda el vertader tema causant del problema presentat pel client\, en oposició a processos que poden durar anys en altres tipus de teràpies. \nEl mètode es fonamenta en el treball amb representants i en grup. L’abast del treball no es limita només a la persona que ha fet la seva constel·lació\, sinó també al seu sistema familiar\, ja que quan un element del sistema es mou\, tots es recol·loquen alhora\, trobant un nou equilibri. Així mateix\, el treball d’una persona en la seva constel·lació afecta la resta de participants del taller\, ja que moltes problemàtiques són comuns\, en major o menor grau\, a les de la resta de participants. \nLes constel·lacions familiars es realizen habitualment amb vàries persones que assisteixen a un mateix taller i que\, en general\, no tenen cap vinculació. És important incidir en què\, tot i que les constel·lacions familiars es realitzen en grup\, no és una teràpia de grup com a tal. No és necessari tenir coneixements sobre constel·lacions familiars per poder assistir als tallers. La manera de treballar és ordenada i al mateix temps vivencial i creativa. \nCada persona que assisteix a un taller de constel·lacions familiars realitza un treball personal\, tant en la seva constel·lació com en les dels demés. És molt comú sentir que el rol que experimenta cada persona com a representant d’una constel·lació està relacionat amb aspectes de la seva vida i història personal. \nAmb una constel·lació podem tractar\, entre molts d’altres\, els següents temes:\n• Conflictes de parella\, actual o anterior.\n• Dificultats en les relacions familiars.\n• Addiccions.\n• Recursos per a encarar malalties.\n• Problemes de fertilitat. Adopcions.\n• Destins difícils: morts prematures\, avortaments…\n• Traumes de la infància.\n• Auto-sabotatge per a no aconseguir èxit econòmic\, professional o personal.\n• Pèrdues i dols. Esdeveniments tràgics. \n 
URL:https://www.antoniferragut.cat/esdeveniment/taller20260327/
LOCATION:espaimare\, Eivissa\, 8\, Maria de la Salut\, 07519\, Espanya
ORGANIZER;CN="Antoni Ferragut":MAILTO:hola@antoniferragut.cat
END:VEVENT
BEGIN:VEVENT
DTSTART;TZID=UTC:20260329T100000
DTEND;TZID=UTC:20260329T140000
DTSTAMP:20260423T095751
CREATED:20260219T100532Z
LAST-MODIFIED:20260219T100539Z
UID:4658-1774778400-1774792800@www.antoniferragut.cat
SUMMARY:Tu i jo (espaimare)
DESCRIPTION:Tu i jo (Maria de la Salut\, Mallorca)\nLloc: espai mare\,  c. Eivissa\, 8 1r\, Maria de la Salut. \nInscripció: 666 07 49 45 o hola@antoniferragut.cat. \nAportació: 80€. \nPer a més informació sobre les constel·lacions familiars podeu contactar amb mi al 666 07 49 45. \n\n\n\nTant si es viu un bon moment com si no\, tant si hi ha parella com si no\, aquest és un taller obert a tothom que vulgui treballar aquesta temàtica relacional. \nEl taller està enfocat també en la trobada\, en la comunicació\, en el reconeixement i l’empatia. \n\n\n\n\nALGUNS DELS CONTINGUTS\n\nDonar i rebre\nEnergies femenina i masculina\nParelles anteriors\nEl paper dels pares\nQui ocupa el lloc de parella?\nTriangles\nParelles i fills\nEl projecte de parella\nI més!\n\n\n\n\n\nFUNCIONAMENT\nLa feina es realitzarà mitjançant moviments sistèmics\, constel·lacions familiars\, rituals i jocs\, moviments…
URL:https://www.antoniferragut.cat/esdeveniment/tuijo20260329/
LOCATION:espaimare\, Eivissa\, 8\, Maria de la Salut\, 07519\, Espanya
ORGANIZER;CN="Antoni Ferragut":MAILTO:hola@antoniferragut.cat
END:VEVENT
BEGIN:VEVENT
DTSTART;TZID=UTC:20260413T170000
DTEND;TZID=UTC:20260413T203000
DTSTAMP:20260423T095751
CREATED:20260219T100433Z
LAST-MODIFIED:20260219T100433Z
UID:4654-1776099600-1776112200@www.antoniferragut.cat
SUMMARY:Taller de constel·lacions familiars (espaimare)
DESCRIPTION:Taller de constel·lacions familiars (Maria de la Salut\, Mallorca)\nLloc: espai mare\, c. Eivissa\, 8 1r\, Maria de la Salut. \nAportació: 80€. Cal una reserva de 30€. Representants: 20€. \nInscripció per a constel·lar: aquí. Reserva per a representar al 666074945 (whatsapp). \nPer a més informació sobre les constel·lacions familiars podeu contactar amb mi al 666 07 49 45. \n\nUna constel·lació familiar és un mètode terapèutic\, desenvolupat per Bert Hellinger\, que treballa directament amb l’inconscient\, la part més profunda del nostre ésser. \nAl voltant del 70% dels problemes psicològics que ens afecten a tots provenen de la nostra història i la nostra relació familiar. Les constel·lacions familiars treuen a la llum ràpidament la dinàmica que causa el patiment i\, si es donen les circumstàncies apropiades\, les recol·loca en el mateix moment. \nGran part dels bloquejos i patrons dolorosos no són sempre responsabilitat directa de les nostres decisions\, ja que en el nostre ésser existeix un nivell més profund\, l’inconscient\, on hi descansen instruccions incondicionals\, heretades dels nostres pares\, avis\, besavis i demés ancestres. Aquests patrons es fan visibles per exemple en l’elecció de la parella\, en la realització dels projectes de vida o en les malalties. Les constel·lacions familiars serveixen per a alliberar-nos d’aquelles creences\, pensaments\, històries\, emocions\, que no ens permeten viure plenament\, que no ens agraden de nosaltres\, que repetim freqüentment (patrons) i que no sabem canviar amb resultats satisfactoris. Una vegada ens hem alliberat de tot això\, podem caminar cap al benestar. \nEl mètode de les constel·lacions familiars destaca per la seva rapidesa. En una constel·lació\, d’una durada mitjana aproximada d’una hora\, surt a la llum i s’aborda el vertader tema causant del problema presentat pel client\, en oposició a processos que poden durar anys en altres tipus de teràpies. \nEl mètode es fonamenta en el treball amb representants i en grup. L’abast del treball no es limita només a la persona que ha fet la seva constel·lació\, sinó també al seu sistema familiar\, ja que quan un element del sistema es mou\, tots es recol·loquen alhora\, trobant un nou equilibri. Així mateix\, el treball d’una persona en la seva constel·lació afecta la resta de participants del taller\, ja que moltes problemàtiques són comuns\, en major o menor grau\, a les de la resta de participants. \nLes constel·lacions familiars es realizen habitualment amb vàries persones que assisteixen a un mateix taller i que\, en general\, no tenen cap vinculació. És important incidir en què\, tot i que les constel·lacions familiars es realitzen en grup\, no és una teràpia de grup com a tal. No és necessari tenir coneixements sobre constel·lacions familiars per poder assistir als tallers. La manera de treballar és ordenada i al mateix temps vivencial i creativa. \nCada persona que assisteix a un taller de constel·lacions familiars realitza un treball personal\, tant en la seva constel·lació com en les dels demés. És molt comú sentir que el rol que experimenta cada persona com a representant d’una constel·lació està relacionat amb aspectes de la seva vida i història personal. \nAmb una constel·lació podem tractar\, entre molts d’altres\, els següents temes:\n• Conflictes de parella\, actual o anterior.\n• Dificultats en les relacions familiars.\n• Addiccions.\n• Recursos per a encarar malalties.\n• Problemes de fertilitat. Adopcions.\n• Destins difícils: morts prematures\, avortaments…\n• Traumes de la infància.\n• Auto-sabotatge per a no aconseguir èxit econòmic\, professional o personal.\n• Pèrdues i dols. Esdeveniments tràgics. \n 
URL:https://www.antoniferragut.cat/esdeveniment/taller20260413/
LOCATION:espaimare\, Eivissa\, 8\, Maria de la Salut\, 07519\, Espanya
ORGANIZER;CN="Antoni Ferragut":MAILTO:hola@antoniferragut.cat
END:VEVENT
BEGIN:VEVENT
DTSTART;TZID=UTC:20260424T170000
DTEND;TZID=UTC:20260424T203000
DTSTAMP:20260423T095751
CREATED:20260219T100445Z
LAST-MODIFIED:20260219T100445Z
UID:4655-1777050000-1777062600@www.antoniferragut.cat
SUMMARY:Taller de constel·lacions familiars (espaimare)
DESCRIPTION:Taller de constel·lacions familiars (Maria de la Salut\, Mallorca)\nLloc: espai mare\, c. Eivissa\, 8 1r\, Maria de la Salut. \nAportació: 80€. Cal una reserva de 30€. Representants: 20€. \nInscripció per a constel·lar: aquí. Reserva per a representar al 666074945 (whatsapp). \nPer a més informació sobre les constel·lacions familiars podeu contactar amb mi al 666 07 49 45. \n\nUna constel·lació familiar és un mètode terapèutic\, desenvolupat per Bert Hellinger\, que treballa directament amb l’inconscient\, la part més profunda del nostre ésser. \nAl voltant del 70% dels problemes psicològics que ens afecten a tots provenen de la nostra història i la nostra relació familiar. Les constel·lacions familiars treuen a la llum ràpidament la dinàmica que causa el patiment i\, si es donen les circumstàncies apropiades\, les recol·loca en el mateix moment. \nGran part dels bloquejos i patrons dolorosos no són sempre responsabilitat directa de les nostres decisions\, ja que en el nostre ésser existeix un nivell més profund\, l’inconscient\, on hi descansen instruccions incondicionals\, heretades dels nostres pares\, avis\, besavis i demés ancestres. Aquests patrons es fan visibles per exemple en l’elecció de la parella\, en la realització dels projectes de vida o en les malalties. Les constel·lacions familiars serveixen per a alliberar-nos d’aquelles creences\, pensaments\, històries\, emocions\, que no ens permeten viure plenament\, que no ens agraden de nosaltres\, que repetim freqüentment (patrons) i que no sabem canviar amb resultats satisfactoris. Una vegada ens hem alliberat de tot això\, podem caminar cap al benestar. \nEl mètode de les constel·lacions familiars destaca per la seva rapidesa. En una constel·lació\, d’una durada mitjana aproximada d’una hora\, surt a la llum i s’aborda el vertader tema causant del problema presentat pel client\, en oposició a processos que poden durar anys en altres tipus de teràpies. \nEl mètode es fonamenta en el treball amb representants i en grup. L’abast del treball no es limita només a la persona que ha fet la seva constel·lació\, sinó també al seu sistema familiar\, ja que quan un element del sistema es mou\, tots es recol·loquen alhora\, trobant un nou equilibri. Així mateix\, el treball d’una persona en la seva constel·lació afecta la resta de participants del taller\, ja que moltes problemàtiques són comuns\, en major o menor grau\, a les de la resta de participants. \nLes constel·lacions familiars es realizen habitualment amb vàries persones que assisteixen a un mateix taller i que\, en general\, no tenen cap vinculació. És important incidir en què\, tot i que les constel·lacions familiars es realitzen en grup\, no és una teràpia de grup com a tal. No és necessari tenir coneixements sobre constel·lacions familiars per poder assistir als tallers. La manera de treballar és ordenada i al mateix temps vivencial i creativa. \nCada persona que assisteix a un taller de constel·lacions familiars realitza un treball personal\, tant en la seva constel·lació com en les dels demés. És molt comú sentir que el rol que experimenta cada persona com a representant d’una constel·lació està relacionat amb aspectes de la seva vida i història personal. \nAmb una constel·lació podem tractar\, entre molts d’altres\, els següents temes:\n• Conflictes de parella\, actual o anterior.\n• Dificultats en les relacions familiars.\n• Addiccions.\n• Recursos per a encarar malalties.\n• Problemes de fertilitat. Adopcions.\n• Destins difícils: morts prematures\, avortaments…\n• Traumes de la infància.\n• Auto-sabotatge per a no aconseguir èxit econòmic\, professional o personal.\n• Pèrdues i dols. Esdeveniments tràgics. \n 
URL:https://www.antoniferragut.cat/esdeveniment/taller20260424/
LOCATION:espaimare\, Eivissa\, 8\, Maria de la Salut\, 07519\, Espanya
ORGANIZER;CN="Antoni Ferragut":MAILTO:hola@antoniferragut.cat
END:VEVENT
BEGIN:VEVENT
DTSTART;TZID=UTC:20260707T093000
DTEND;TZID=UTC:20260710T140000
DTSTAMP:20260423T095751
CREATED:20260114T195029Z
LAST-MODIFIED:20260114T195029Z
UID:4608-1783416600-1783692000@www.antoniferragut.cat
SUMMARY:Curs: Descobrint el propòsit 2026
DESCRIPTION:Descobrint el propòsit 2026\nLloc: espai mare\, Maria de la Salut (Mallorca). \nDates: 7-10 de juliol del 2026. \nInscripció: 666074945 o hola@antoniferragut.cat. \n\nSovint ens trobem en la vida diversos obstacles que ens impedeixen excel·lir\, brillar. De vegades són conscients\, però en moltes ocasions són inconscients\, i no els sabem gestionar. Potser no sabem quin camí escollir després del batxillerat; o sentim que no som on voldríeu una vegada començat un grau a la universitat; o la feina que fem no ens omple\, o canvia continuament\, o simplement no tenim feina; o no sabem quina és la nostra vertadera vocació\, el nostre propòsit\, el que hem vingut a fer aquí. \nTambé podem sentir una pressió\, conscient o inconscient\, dels pares i demés familiars perquè prenguem un determinat camí\, seguint unes tradicions o anhels. \nA més a més\, l’experiència en teràpia ens indica que hi ha dinàmiques i fidelitats ocultes que poden afectar el camí a prendre. \nEn aquest curs treballarem en tots aquests aspectes per tal d’assegurar un bon camí als participants. I ho farem d’una manera subtil i profunda\, treballant amb els diferents arquetips que formen la nostra carta natal: \n\nVeurem els significats d’aquests arquetips\, els materialitzarem i els treballarem amb constel·lacions.\nTambé hi haurà temps per treballar temes dels participants amb constel·lacions familiars.\nUsarem les astroconstel·lacions per fer un viatge a l’interior i posar ordre a totes les parts internes de cada participant.\nEns endinsarem en la carta natal de cada participant per tal de trobar aquella vocació interna que tots tenim.\nI finalment caminarem cap al nostre propòsit de vida.\n\nAquest curs utilitzarà les Constel·lacions Familiars i també\, i en igual mesura\, l’Astrologia Psicològica\, de la mà de l’astròloga Esther Beltran. Farem que el curs resulti amè\, fàcil i divertit\, a la vegada que transformador i útil de cara al futur immediat. \nContinguts:\n1. Treball amb la família\n\nIntroducció a les Constel·lacions Familiars.\nIntroducció a l’Astrologia Psicològica.\nIntegració de les parts masculina i femenina: mart i venus.\nAcompanyant el nen interior\, la mare\, el pare\, l’arbre: la lluna\, saturn\, el sol.\nGermans\, vius o morts: mercuri\, urà.\nSecrets i morts: neptú\, plutó.\n\n\n\n2. Mirant cap endins\n\nA la recerca dels propis dons.\nRevisió de la carta natal: descobrint la vocació.\nAstroconstel·lacions.\n\n\n\n\n\n\n3. Mirant cap endavant\n\nLa carta natal: enfocant-nos cap al propòsit.\nEl que queda enrere i el que veiem endavant.
URL:https://www.antoniferragut.cat/esdeveniment/proposit2026/
LOCATION:espaimare\, Eivissa\, 8\, Maria de la Salut\, 07519\, Espanya
ORGANIZER;CN="Antoni Ferragut":MAILTO:hola@antoniferragut.cat
END:VEVENT
END:VCALENDAR